BEGIN:VCALENDAR
VERSION:2.0
PRODID:-//Northwood House - ECPv4.6.10.1//NONSGML v1.0//EN
CALSCALE:GREGORIAN
METHOD:PUBLISH
X-WR-CALNAME:Northwood House
X-ORIGINAL-URL:https://northwoodhouse.org
X-WR-CALDESC:Events for Northwood House
BEGIN:VEVENT
DTSTART;TZID=UTC+0:20260207T110000
DTEND;TZID=UTC+0:20260207T121500
DTSTAMP:20260421T015409
CREATED:20221214T163815Z
LAST-MODIFIED:20260112T102421Z
UID:15032-1770462000-1770466500@northwoodhouse.org
SUMMARY:Volunteer Recruitment Coffee Morning (Feb 2026)
DESCRIPTION: \nHave you got a few hours a week (or even a month) to spare and would be able to contribute a little bit of time to a good community cause? \nJoining our volunteer park gardening team and/or event catering team might just be what you are looking for! \nIf you love gardening\, it’s a great opportunity to meet new people\, get some fresh air and exercise and help keep Northwood Park looking great for visitors. \nIf you love the buzz of events and are in your element in a highly sociable and bustling environment (helping to make and serve tea\, coffee and refreshments) then step forward! \n \nCome and find out more at our recruitment coffee morning on Saturday 7th  February. You’ll meet regular members of our friendly volunteer team and see what they get up to. Hopefully you’ll want to join in the fun! \nVolunteering is open to adults over 18 years of age and as long as you are reasonably fit\,mobile and healthy there’s no specific upper age. \nMeet our friendly team at the Northwood House Rotunda main entrance just before or at 11am. Sue Collinge\, our Charity Trustee in charge of volunteering will be there to welcome you along with some of our current volunteers and the Charity’s C.O.O (Darren Cool) who will tell you all about the opportunities over some coffee\, tea and biscuits! \nAnd don’t worry\, there’s absolutely no commitment what so ever to join the team if it doesn’t sound like it’s for you. We will  just be delighted that you were interested in the first place. With over 70 regular volunteers\, we’re pretty sure you’ll want to join in the fun\, by raising funds for Northwood House Charitable Trust at events or by helping to maintain Northwood Park for the whole local community to enjoy as a recreational green space…or maybe both! \nIf you can’t wait until then and want to find out more\, please get in touch and we’ll invite you in for a cup of tea! Just email Cath our administrator at administrator@northwoodhouse.org or call 293642 after 10am weekdays. \nWithout volunteers many charities would not survive and Northwood House Charitable Trust Co Ltd is no different. With its rich history\, the Charity wants to continue to be an important focal point of the Cowes and Isle of Wight community. \nOur volunteers’ contribution is invaluable\, it’s their interest in the House and the history of Cowes and the Isle of Wight which help us run events and activities to enable the renovation and maintenance work so badly needed to continue \n \n
URL:https://northwoodhouse.org/event/volunteer-recruitment-morning/
LOCATION:Ward Avenue\, Cowes\, United Kingdom
ATTACH;FMTTYPE=image/jpeg:https://northwoodhouse.org/wp-content/uploads/2022/12/Recruitment-morning-square-graphic-Feb-2026-01.jpg
END:VEVENT
END:VCALENDAR